BEGIN:VCALENDAR
VERSION:2.0
PRODID:-//Georgetown Army Cadets - 676 Lorne Scots - ECPv6.15.20//NONSGML v1.0//EN
CALSCALE:GREGORIAN
METHOD:PUBLISH
X-WR-CALNAME:Georgetown Army Cadets - 676 Lorne Scots
X-ORIGINAL-URL:https://www.georgetownarmycadets.ca
X-WR-CALDESC:Events for Georgetown Army Cadets - 676 Lorne Scots
REFRESH-INTERVAL;VALUE=DURATION:PT1H
X-Robots-Tag:noindex
X-PUBLISHED-TTL:PT1H
BEGIN:VTIMEZONE
TZID:America/Toronto
BEGIN:DAYLIGHT
TZOFFSETFROM:-0500
TZOFFSETTO:-0400
TZNAME:EDT
DTSTART:20230312T070000
END:DAYLIGHT
BEGIN:STANDARD
TZOFFSETFROM:-0400
TZOFFSETTO:-0500
TZNAME:EST
DTSTART:20231105T060000
END:STANDARD
BEGIN:DAYLIGHT
TZOFFSETFROM:-0500
TZOFFSETTO:-0400
TZNAME:EDT
DTSTART:20240310T070000
END:DAYLIGHT
BEGIN:STANDARD
TZOFFSETFROM:-0400
TZOFFSETTO:-0500
TZNAME:EST
DTSTART:20241103T060000
END:STANDARD
BEGIN:DAYLIGHT
TZOFFSETFROM:-0500
TZOFFSETTO:-0400
TZNAME:EDT
DTSTART:20250309T070000
END:DAYLIGHT
BEGIN:STANDARD
TZOFFSETFROM:-0400
TZOFFSETTO:-0500
TZNAME:EST
DTSTART:20251102T060000
END:STANDARD
END:VTIMEZONE
BEGIN:VEVENT
DTSTART;TZID=America/Toronto:20240619T180000
DTEND;TZID=America/Toronto:20240619T210000
DTSTAMP:20260421T041857
CREATED:20240521T154808Z
LAST-MODIFIED:20240619T180545Z
UID:3080-1718820000-1718830800@www.georgetownarmycadets.ca
SUMMARY:Family BBQ and Camp Night
DESCRIPTION:Dress is civvies. Your item depends on the last name of the cadet: \n\nA-G – please bring drinks\nH-O – please bring desserts\nP-Z – please bring sides\n\nAll items must be NUTFREE AND SHELLFISH FREE.  No homemade items are allowed due to restrictions. \nThe Support Committee is inviting families to a BBQ dinner.  Please complete the form below by June 5th. \nBBQ Form \n  \n 
URL:https://www.georgetownarmycadets.ca/event/family-bbq/
LOCATION:Col J R Barber Armoury\, 91 Todd Rd\, Georgetown\, ON\, Canada
CATEGORIES:Support Committee
END:VEVENT
BEGIN:VEVENT
DTSTART;TZID=America/Toronto:20240619T160000
DTEND;TZID=America/Toronto:20240619T180000
DTSTAMP:20260421T041857
CREATED:20240602T160814Z
LAST-MODIFIED:20240619T180618Z
UID:3115-1718812800-1718820000@www.georgetownarmycadets.ca
SUMMARY:Volunteer Opportunity - BBQ Set-up
DESCRIPTION:Dress is civvies. \nThe Support Committee is looking for 10 cadets to help set-up for the BBQ from 4-6 pm. \nThis would be volunteer hours for high school. \nPlease see Lt Routhier to sign-up.
URL:https://www.georgetownarmycadets.ca/event/volunteer-opportunity-bbq-set-up/
LOCATION:Col J R Barber Armoury\, 91 Todd Rd\, Georgetown\, ON\, Canada
CATEGORIES:Support Committee
END:VEVENT
END:VCALENDAR